BEGIN:VCALENDAR
VERSION:2.0
PRODID:-//Vacation Rental Professionals of Maine - ECPv6.15.20//NONSGML v1.0//EN
CALSCALE:GREGORIAN
METHOD:PUBLISH
X-WR-CALNAME:Vacation Rental Professionals of Maine
X-ORIGINAL-URL:https://vrpome.org
X-WR-CALDESC:Events for Vacation Rental Professionals of Maine
REFRESH-INTERVAL;VALUE=DURATION:PT1H
X-Robots-Tag:noindex
X-PUBLISHED-TTL:PT1H
BEGIN:VTIMEZONE
TZID:America/New_York
BEGIN:DAYLIGHT
TZOFFSETFROM:-0500
TZOFFSETTO:-0400
TZNAME:EDT
DTSTART:20250309T070000
END:DAYLIGHT
BEGIN:STANDARD
TZOFFSETFROM:-0400
TZOFFSETTO:-0500
TZNAME:EST
DTSTART:20251102T060000
END:STANDARD
BEGIN:DAYLIGHT
TZOFFSETFROM:-0500
TZOFFSETTO:-0400
TZNAME:EDT
DTSTART:20260308T070000
END:DAYLIGHT
BEGIN:STANDARD
TZOFFSETFROM:-0400
TZOFFSETTO:-0500
TZNAME:EST
DTSTART:20261101T060000
END:STANDARD
BEGIN:DAYLIGHT
TZOFFSETFROM:-0500
TZOFFSETTO:-0400
TZNAME:EDT
DTSTART:20270314T070000
END:DAYLIGHT
BEGIN:STANDARD
TZOFFSETFROM:-0400
TZOFFSETTO:-0500
TZNAME:EST
DTSTART:20271107T060000
END:STANDARD
END:VTIMEZONE
BEGIN:VEVENT
DTSTART;TZID=America/New_York:20260326T120000
DTEND;TZID=America/New_York:20260326T130000
DTSTAMP:20260423T145639
CREATED:20260318T221635Z
LAST-MODIFIED:20260318T221635Z
UID:10000001-1774526400-1774530000@vrpome.org
SUMMARY:Your Voice Matters: Legislative Updates and Advocacy in Action
DESCRIPTION:The rules governing the vacation rental industry are evolving quickly — and staying informed is critical to protecting and growing your business. \nJoin VRPOME for the live webinar\, Your Voice Matters: Legislative Updates and Advocacy In Action\, on March 26 at 12:00 PM EST. This important webinar covering the latest legislative developments impacting short-term rental operators. You’ll gain clear insights into proposed policy changes\, understand how they may affect your operations\, and learn about current advocacy priorities shaping the industry. \nThe session will also provide practical guidance on how hosts\, managers\, and real estate professionals can engage in policy conversations and help influence the future of short-term rentals. \nThis concise\, actionable webinar is designed to keep you informed\, prepared\, and empowered in a rapidly changing regulatory environment. \nRegister to join > 
URL:https://vrpome.org/event/your-voice-matters-legislative-updates-and-advocacy-in-action/
ATTACH;FMTTYPE=image/jpeg:https://vrpome.org/wp-content/uploads/2026/03/3.26-VRPOME-1.jpg
END:VEVENT
END:VCALENDAR